BEGIN:VCALENDAR
VERSION:2.0
PRODID:-//Normal Heights United Methodist Church - ECPv6.15.17.1//NONSGML v1.0//EN
CALSCALE:GREGORIAN
METHOD:PUBLISH
X-WR-CALNAME:Normal Heights United Methodist Church
X-ORIGINAL-URL:https://nhunited.org
X-WR-CALDESC:Events for Normal Heights United Methodist Church
REFRESH-INTERVAL;VALUE=DURATION:PT1H
X-Robots-Tag:noindex
X-PUBLISHED-TTL:PT1H
BEGIN:VTIMEZONE
TZID:America/Los_Angeles
BEGIN:DAYLIGHT
TZOFFSETFROM:-0800
TZOFFSETTO:-0700
TZNAME:PDT
DTSTART:20230312T100000
END:DAYLIGHT
BEGIN:STANDARD
TZOFFSETFROM:-0700
TZOFFSETTO:-0800
TZNAME:PST
DTSTART:20231105T090000
END:STANDARD
BEGIN:DAYLIGHT
TZOFFSETFROM:-0800
TZOFFSETTO:-0700
TZNAME:PDT
DTSTART:20240310T100000
END:DAYLIGHT
BEGIN:STANDARD
TZOFFSETFROM:-0700
TZOFFSETTO:-0800
TZNAME:PST
DTSTART:20241103T090000
END:STANDARD
BEGIN:DAYLIGHT
TZOFFSETFROM:-0800
TZOFFSETTO:-0700
TZNAME:PDT
DTSTART:20250309T100000
END:DAYLIGHT
BEGIN:STANDARD
TZOFFSETFROM:-0700
TZOFFSETTO:-0800
TZNAME:PST
DTSTART:20251102T090000
END:STANDARD
END:VTIMEZONE
BEGIN:VEVENT
DTSTART;TZID=America/Los_Angeles:20241025T183000
DTEND;TZID=America/Los_Angeles:20241025T213000
DTSTAMP:20260422T195632
CREATED:20241023T123859Z
LAST-MODIFIED:20241023T123936Z
UID:10000390-1729881000-1729891800@nhunited.org
SUMMARY:Songwriter Santuary: MC Edition!
DESCRIPTION:Songwriter Sanctuary will take on a new rhythm with a special MC Edition featuring The Neighborhood Kids\, The Brothers Burns\, and Rob Deez. Typically known for its intimate acoustic sets and behind-the-song storytelling\, the original music series is shifting gears to spotlight songwriters whose craft is rooted in hip hop\, where rhythm\, flow\, and rhyme take center stage. Hosted by the iconic Jeff Berkley in collaboration with Normal Heights United\, this event will bring a fresh spin to the Songwriter Sanctuary experience. \n \nThis all-ages event has a suggested donation of $10 for entry. Doors open at 6:30pm\, and the music starts in our Sanctuary at 7pm. Beverages will be available for purchase too! \nFor full bios\, more details\, and to RSVP…
URL:https://nhunited.org/event/songwritermc/
LOCATION:Normal Heights United\, 4650 Mansfield Street\, San Diego\, CA\, 92116\, United States
CATEGORIES:Music
ATTACH;FMTTYPE=image/png:https://nhunited.org/wp-content/uploads/2024/10/songwriterMC.png
END:VEVENT
END:VCALENDAR