BEGIN:VCALENDAR
VERSION:2.0
PRODID:-//Normal Heights United Methodist Church - ECPv6.15.17.1//NONSGML v1.0//EN
CALSCALE:GREGORIAN
METHOD:PUBLISH
X-ORIGINAL-URL:https://nhunited.org
X-WR-CALDESC:Events for Normal Heights United Methodist Church
REFRESH-INTERVAL;VALUE=DURATION:PT1H
X-Robots-Tag:noindex
X-PUBLISHED-TTL:PT1H
BEGIN:VTIMEZONE
TZID:America/Los_Angeles
BEGIN:DAYLIGHT
TZOFFSETFROM:-0800
TZOFFSETTO:-0700
TZNAME:PDT
DTSTART:20230312T100000
END:DAYLIGHT
BEGIN:STANDARD
TZOFFSETFROM:-0700
TZOFFSETTO:-0800
TZNAME:PST
DTSTART:20231105T090000
END:STANDARD
BEGIN:DAYLIGHT
TZOFFSETFROM:-0800
TZOFFSETTO:-0700
TZNAME:PDT
DTSTART:20240310T100000
END:DAYLIGHT
BEGIN:STANDARD
TZOFFSETFROM:-0700
TZOFFSETTO:-0800
TZNAME:PST
DTSTART:20241103T090000
END:STANDARD
BEGIN:DAYLIGHT
TZOFFSETFROM:-0800
TZOFFSETTO:-0700
TZNAME:PDT
DTSTART:20250309T100000
END:DAYLIGHT
BEGIN:STANDARD
TZOFFSETFROM:-0700
TZOFFSETTO:-0800
TZNAME:PST
DTSTART:20251102T090000
END:STANDARD
END:VTIMEZONE
BEGIN:VEVENT
DTSTART;TZID=America/Los_Angeles:20241103T090000
DTEND;TZID=America/Los_Angeles:20241103T103000
DTSTAMP:20260422T094527
CREATED:20241023T125457Z
LAST-MODIFIED:20241023T125722Z
UID:10000393-1730624400-1730629800@nhunited.org
SUMMARY:Queer Affirming Theology
DESCRIPTION:A dearly held value here at NHUnited is expressed in the banner that hangs right off our building: All Loved\, All Welcomed\, All Affirmed\, Always. We absolutely believe that queerness is a gift from God and is to be celebrated. And so\, your pastors – Brent\, Molly\, and Melissa – will be leading a 3-week class offering a framework for that celebration as found in Christian scripture and theology.  After exploring scripture and theology in the first two weeks\, the third week will be more dialogical\, bringing examples from our everyday lives (relationships\, worship\, and mental health) to imagine together how we can apply this life-giving view  of God\, ourselves\, others\, and creation. \n 
URL:https://nhunited.org/event/queer-affirming-theology/2024-11-03/
LOCATION:Normal Heights United\, 4650 Mansfield Street\, San Diego\, CA\, 92116\, United States
CATEGORIES:Music
ATTACH;FMTTYPE=image/png:https://nhunited.org/wp-content/uploads/2024/10/queer-affirming-theology-purp.png
END:VEVENT
END:VCALENDAR