BEGIN:VCALENDAR
VERSION:2.0
PRODID:-//Normal Heights United Methodist Church - ECPv6.15.17.1//NONSGML v1.0//EN
CALSCALE:GREGORIAN
METHOD:PUBLISH
X-WR-CALNAME:Normal Heights United Methodist Church
X-ORIGINAL-URL:https://nhunited.org
X-WR-CALDESC:Events for Normal Heights United Methodist Church
REFRESH-INTERVAL;VALUE=DURATION:PT1H
X-Robots-Tag:noindex
X-PUBLISHED-TTL:PT1H
BEGIN:VTIMEZONE
TZID:America/Los_Angeles
BEGIN:DAYLIGHT
TZOFFSETFROM:-0800
TZOFFSETTO:-0700
TZNAME:PDT
DTSTART:20230312T100000
END:DAYLIGHT
BEGIN:STANDARD
TZOFFSETFROM:-0700
TZOFFSETTO:-0800
TZNAME:PST
DTSTART:20231105T090000
END:STANDARD
BEGIN:DAYLIGHT
TZOFFSETFROM:-0800
TZOFFSETTO:-0700
TZNAME:PDT
DTSTART:20240310T100000
END:DAYLIGHT
BEGIN:STANDARD
TZOFFSETFROM:-0700
TZOFFSETTO:-0800
TZNAME:PST
DTSTART:20241103T090000
END:STANDARD
BEGIN:DAYLIGHT
TZOFFSETFROM:-0800
TZOFFSETTO:-0700
TZNAME:PDT
DTSTART:20250309T100000
END:DAYLIGHT
BEGIN:STANDARD
TZOFFSETFROM:-0700
TZOFFSETTO:-0800
TZNAME:PST
DTSTART:20251102T090000
END:STANDARD
END:VTIMEZONE
BEGIN:VEVENT
DTSTART;TZID=America/Los_Angeles:20241106T160000
DTEND;TZID=America/Los_Angeles:20241106T190000
DTSTAMP:20260422T221922
CREATED:20241106T193050Z
LAST-MODIFIED:20241106T193050Z
UID:10000543-1730908800-1730919600@nhunited.org
SUMMARY:Sanctuary open tonight
DESCRIPTION:In the aftermath of last night\, we are going to have the sanctuary open tonight from 4 – 7 pm for anyone who needs a safe reflective space to gather and be together. \nFeel free to bring dinner. \nLet’s be together in our grief and remind ourselves of hope. \nAlso please feel free to share with others who may need space and loving community tonight.
URL:https://nhunited.org/event/sanctuary-open-tonight/
ATTACH;FMTTYPE=image/png:https://nhunited.org/wp-content/uploads/2024/11/open.png
END:VEVENT
END:VCALENDAR