BEGIN:VCALENDAR
VERSION:2.0
PRODID:-//Normal Heights United Methodist Church - ECPv6.15.17.1//NONSGML v1.0//EN
CALSCALE:GREGORIAN
METHOD:PUBLISH
X-ORIGINAL-URL:https://nhunited.org
X-WR-CALDESC:Events for Normal Heights United Methodist Church
REFRESH-INTERVAL;VALUE=DURATION:PT1H
X-Robots-Tag:noindex
X-PUBLISHED-TTL:PT1H
BEGIN:VTIMEZONE
TZID:America/Los_Angeles
BEGIN:DAYLIGHT
TZOFFSETFROM:-0800
TZOFFSETTO:-0700
TZNAME:PDT
DTSTART:20230312T100000
END:DAYLIGHT
BEGIN:STANDARD
TZOFFSETFROM:-0700
TZOFFSETTO:-0800
TZNAME:PST
DTSTART:20231105T090000
END:STANDARD
BEGIN:DAYLIGHT
TZOFFSETFROM:-0800
TZOFFSETTO:-0700
TZNAME:PDT
DTSTART:20240310T100000
END:DAYLIGHT
BEGIN:STANDARD
TZOFFSETFROM:-0700
TZOFFSETTO:-0800
TZNAME:PST
DTSTART:20241103T090000
END:STANDARD
BEGIN:DAYLIGHT
TZOFFSETFROM:-0800
TZOFFSETTO:-0700
TZNAME:PDT
DTSTART:20250309T100000
END:DAYLIGHT
BEGIN:STANDARD
TZOFFSETFROM:-0700
TZOFFSETTO:-0800
TZNAME:PST
DTSTART:20251102T090000
END:STANDARD
END:VTIMEZONE
BEGIN:VEVENT
DTSTART;TZID=America/Los_Angeles:20241109T093000
DTEND;TZID=America/Los_Angeles:20241109T113000
DTSTAMP:20260422T165711
CREATED:20241102T062640Z
LAST-MODIFIED:20241102T062640Z
UID:10000541-1731144600-1731151800@nhunited.org
SUMMARY:Garden Clean-Up
DESCRIPTION:You are invited to join the Garden Team for a morning of fun and togetherness! Plans are to clear and clean the garden space and update the potted plants.Garden tools will be provided; however\, if you have favorites\, please bring them along as well as gloves\, water and a hat.
URL:https://nhunited.org/event/garden-clean-up/
ATTACH;FMTTYPE=image/png:https://nhunited.org/wp-content/uploads/2024/11/garden-cleanup.png
END:VEVENT
END:VCALENDAR