BEGIN:VCALENDAR
VERSION:2.0
PRODID:-//Normal Heights United Methodist Church - ECPv6.15.17.1//NONSGML v1.0//EN
CALSCALE:GREGORIAN
METHOD:PUBLISH
X-WR-CALNAME:Normal Heights United Methodist Church
X-ORIGINAL-URL:https://nhunited.org
X-WR-CALDESC:Events for Normal Heights United Methodist Church
REFRESH-INTERVAL;VALUE=DURATION:PT1H
X-Robots-Tag:noindex
X-PUBLISHED-TTL:PT1H
BEGIN:VTIMEZONE
TZID:America/Los_Angeles
BEGIN:DAYLIGHT
TZOFFSETFROM:-0800
TZOFFSETTO:-0700
TZNAME:PDT
DTSTART:20230312T100000
END:DAYLIGHT
BEGIN:STANDARD
TZOFFSETFROM:-0700
TZOFFSETTO:-0800
TZNAME:PST
DTSTART:20231105T090000
END:STANDARD
BEGIN:DAYLIGHT
TZOFFSETFROM:-0800
TZOFFSETTO:-0700
TZNAME:PDT
DTSTART:20240310T100000
END:DAYLIGHT
BEGIN:STANDARD
TZOFFSETFROM:-0700
TZOFFSETTO:-0800
TZNAME:PST
DTSTART:20241103T090000
END:STANDARD
BEGIN:DAYLIGHT
TZOFFSETFROM:-0800
TZOFFSETTO:-0700
TZNAME:PDT
DTSTART:20250309T100000
END:DAYLIGHT
BEGIN:STANDARD
TZOFFSETFROM:-0700
TZOFFSETTO:-0800
TZNAME:PST
DTSTART:20251102T090000
END:STANDARD
END:VTIMEZONE
BEGIN:VEVENT
DTSTART;TZID=America/Los_Angeles:20241215T121500
DTEND;TZID=America/Los_Angeles:20241215T130000
DTSTAMP:20260422T184744
CREATED:20241031T065423Z
LAST-MODIFIED:20241120T171548Z
UID:10000487-1734264900-1734267600@nhunited.org
SUMMARY:JoySounds Choir
DESCRIPTION:It’s already time to sign up for our JoySounds Children’s Choir! Kids of all ages are encouraged to join us to prepare two special songs for the 5pm Christmas Eve service. \nWe will rehearse four Sundays leading up to Christmas Eve: 11/24\, 12/8\, 12/15\, 12/22. Rehearsal will take place immediately following the worship service\, from 12:15-1pm. If you need to miss a rehearsal or aren’t able to make the service on Christmas Eve\, it’s ok! The experience of learning music together and building friendship is worth it all! To sign up your child(ren)\, use our RSVP form.
URL:https://nhunited.org/event/joysounds-choir/2024-12-15/
CATEGORIES:Christmas
ATTACH;FMTTYPE=image/png:https://nhunited.org/wp-content/uploads/2024/10/pink-joy-sounds.png
END:VEVENT
END:VCALENDAR