BEGIN:VCALENDAR
VERSION:2.0
PRODID:-//Normal Heights United Methodist Church - ECPv6.15.17.1//NONSGML v1.0//EN
CALSCALE:GREGORIAN
METHOD:PUBLISH
X-WR-CALNAME:Normal Heights United Methodist Church
X-ORIGINAL-URL:https://nhunited.org
X-WR-CALDESC:Events for Normal Heights United Methodist Church
REFRESH-INTERVAL;VALUE=DURATION:PT1H
X-Robots-Tag:noindex
X-PUBLISHED-TTL:PT1H
BEGIN:VTIMEZONE
TZID:America/Los_Angeles
BEGIN:DAYLIGHT
TZOFFSETFROM:-0800
TZOFFSETTO:-0700
TZNAME:PDT
DTSTART:20240310T100000
END:DAYLIGHT
BEGIN:STANDARD
TZOFFSETFROM:-0700
TZOFFSETTO:-0800
TZNAME:PST
DTSTART:20241103T090000
END:STANDARD
BEGIN:DAYLIGHT
TZOFFSETFROM:-0800
TZOFFSETTO:-0700
TZNAME:PDT
DTSTART:20250309T100000
END:DAYLIGHT
BEGIN:STANDARD
TZOFFSETFROM:-0700
TZOFFSETTO:-0800
TZNAME:PST
DTSTART:20251102T090000
END:STANDARD
BEGIN:DAYLIGHT
TZOFFSETFROM:-0800
TZOFFSETTO:-0700
TZNAME:PDT
DTSTART:20260308T100000
END:DAYLIGHT
BEGIN:STANDARD
TZOFFSETFROM:-0700
TZOFFSETTO:-0800
TZNAME:PST
DTSTART:20261101T090000
END:STANDARD
END:VTIMEZONE
BEGIN:VEVENT
DTSTART;TZID=America/Los_Angeles:20250623T090000
DTEND;TZID=America/Los_Angeles:20250623T130000
DTSTAMP:20260420T003909
CREATED:20250423T160503Z
LAST-MODIFIED:20250514T214827Z
UID:10000761-1750669200-1750683600@nhunited.org
SUMMARY:Rise & Shine Kids WEEK-LONG Camp
DESCRIPTION:Our super fun and special Kids’ Camp is happening July 22-26 from 9am-1pm (lunch included) for kids going into grades TK – 5. This year\, our “Let’s Go!” hiking theme will help us understand Jesus’ teaching about how to pray – that our prayer communication with God is like a compass\, showing us the way to go. The cost is $50/child and includes all activities\, shirt\, water bottle\, bag\, and Friday Festival. (Scholarships are available\, and there is a multi-child discount.) \nVolunteers needed!\nWe rely on our amazing volunteers to make the week happen! There are many opportunities\, whether you can give the entire week\, half days\, or a partial week. Teens and tweens in 6-12 grades are also welcome to join as volunteer camp staff!
URL:https://nhunited.org/event/rise-shine-kids-camp/
ATTACH;FMTTYPE=image/png:https://nhunited.org/wp-content/uploads/2025/04/lets-go1x1.png
END:VEVENT
END:VCALENDAR