BEGIN:VCALENDAR
VERSION:2.0
PRODID:-//Normal Heights United Methodist Church - ECPv6.15.17.1//NONSGML v1.0//EN
CALSCALE:GREGORIAN
METHOD:PUBLISH
X-ORIGINAL-URL:https://nhunited.org
X-WR-CALDESC:Events for Normal Heights United Methodist Church
REFRESH-INTERVAL;VALUE=DURATION:PT1H
X-Robots-Tag:noindex
X-PUBLISHED-TTL:PT1H
BEGIN:VTIMEZONE
TZID:America/Los_Angeles
BEGIN:DAYLIGHT
TZOFFSETFROM:-0800
TZOFFSETTO:-0700
TZNAME:PDT
DTSTART:20230312T100000
END:DAYLIGHT
BEGIN:STANDARD
TZOFFSETFROM:-0700
TZOFFSETTO:-0800
TZNAME:PST
DTSTART:20231105T090000
END:STANDARD
BEGIN:DAYLIGHT
TZOFFSETFROM:-0800
TZOFFSETTO:-0700
TZNAME:PDT
DTSTART:20240310T100000
END:DAYLIGHT
BEGIN:STANDARD
TZOFFSETFROM:-0700
TZOFFSETTO:-0800
TZNAME:PST
DTSTART:20241103T090000
END:STANDARD
BEGIN:DAYLIGHT
TZOFFSETFROM:-0800
TZOFFSETTO:-0700
TZNAME:PDT
DTSTART:20250309T100000
END:DAYLIGHT
BEGIN:STANDARD
TZOFFSETFROM:-0700
TZOFFSETTO:-0800
TZNAME:PST
DTSTART:20251102T090000
END:STANDARD
END:VTIMEZONE
BEGIN:VEVENT
DTSTART;TZID=America/Los_Angeles:20241102T160000
DTEND;TZID=America/Los_Angeles:20241102T190000
DTSTAMP:20260423T063606
CREATED:20241027T043004Z
LAST-MODIFIED:20241027T164712Z
UID:10000413-1730563200-1730574000@nhunited.org
SUMMARY:All Souls’ Day Altar Time
DESCRIPTION:
URL:https://nhunited.org/event/all-souls-day-altar-time/
LOCATION:Normal Heights United\, 4650 Mansfield Street\, San Diego\, CA\, 92116\, United States
ATTACH;FMTTYPE=image/png:https://nhunited.org/wp-content/uploads/2024/10/altar-time-1.png
END:VEVENT
BEGIN:VEVENT
DTSTART;TZID=America/Los_Angeles:20241102T173000
DTEND;TZID=America/Los_Angeles:20241102T193000
DTSTAMP:20260423T063606
CREATED:20241023T135316Z
LAST-MODIFIED:20241102T192930Z
UID:10000395-1730568600-1730575800@nhunited.org
SUMMARY:Pre-Election Beach Bonfire
DESCRIPTION:The election is almost here\, and with it might come heightened emotions for you\, namely anxiety and fear. When we experience these kinds of moments\, the things that get us through are connection to nature\, and community. So join us on the eve of the election for some time to be together\, connect with the beautiful nature of San Diego\, and process through what you’re feeling in a supportive and safe space. Bring your dinner if you want\, a chair or blanket to sit on\, warm clothes\, and all of what you’re feeling and carrying in this season. \nWe’ll gather at the Ocean Beach bonfire pits\, between towers 4 and 5. \n			\n				\n				\n				\n				\n				Originally we were going to meet in Ocean Beach for the bonfire\, but we’ve changed it to… \nFIESTA ISLANDSaturday 11/2\,from 5:30 – 7:30pm \n			\n				\n				\n				\n				\n				\n			\n			\n				\n				\n				\n				\n			\n				\n				\n				\n				\n				\n				\n				\n				\n				\n				\n				parking directions\n			\n				🅿️ google maps\n			\n				🅿️ apple maps\n			\n			\n				\n				\n				\n				\n				\n				\n				\n				\n				\n				bonfire directions\n			\n				🔥 google maps\n			\n				🔥 apple maps
URL:https://nhunited.org/event/pre-election-beach-bonfire/
ATTACH;FMTTYPE=image/png:https://nhunited.org/wp-content/uploads/2024/10/prebon.png
END:VEVENT
BEGIN:VEVENT
DTSTART;TZID=America/Los_Angeles:20241103T090000
DTEND;TZID=America/Los_Angeles:20241103T103000
DTSTAMP:20260423T063606
CREATED:20241023T125457Z
LAST-MODIFIED:20241023T125722Z
UID:10000393-1730624400-1730629800@nhunited.org
SUMMARY:Queer Affirming Theology
DESCRIPTION:A dearly held value here at NHUnited is expressed in the banner that hangs right off our building: All Loved\, All Welcomed\, All Affirmed\, Always. We absolutely believe that queerness is a gift from God and is to be celebrated. And so\, your pastors – Brent\, Molly\, and Melissa – will be leading a 3-week class offering a framework for that celebration as found in Christian scripture and theology.  After exploring scripture and theology in the first two weeks\, the third week will be more dialogical\, bringing examples from our everyday lives (relationships\, worship\, and mental health) to imagine together how we can apply this life-giving view  of God\, ourselves\, others\, and creation. \n 
URL:https://nhunited.org/event/queer-affirming-theology/2024-11-03/
LOCATION:Normal Heights United\, 4650 Mansfield Street\, San Diego\, CA\, 92116\, United States
CATEGORIES:Music
ATTACH;FMTTYPE=image/png:https://nhunited.org/wp-content/uploads/2024/10/queer-affirming-theology-purp.png
END:VEVENT
BEGIN:VEVENT
DTSTART;TZID=America/Los_Angeles:20241106T160000
DTEND;TZID=America/Los_Angeles:20241106T190000
DTSTAMP:20260423T063606
CREATED:20241106T193050Z
LAST-MODIFIED:20241106T193050Z
UID:10000543-1730908800-1730919600@nhunited.org
SUMMARY:Sanctuary open tonight
DESCRIPTION:In the aftermath of last night\, we are going to have the sanctuary open tonight from 4 – 7 pm for anyone who needs a safe reflective space to gather and be together. \nFeel free to bring dinner. \nLet’s be together in our grief and remind ourselves of hope. \nAlso please feel free to share with others who may need space and loving community tonight.
URL:https://nhunited.org/event/sanctuary-open-tonight/
ATTACH;FMTTYPE=image/png:https://nhunited.org/wp-content/uploads/2024/11/open.png
END:VEVENT
BEGIN:VEVENT
DTSTART;TZID=America/Los_Angeles:20241109T093000
DTEND;TZID=America/Los_Angeles:20241109T113000
DTSTAMP:20260423T063606
CREATED:20241102T062640Z
LAST-MODIFIED:20241102T062640Z
UID:10000541-1731144600-1731151800@nhunited.org
SUMMARY:Garden Clean-Up
DESCRIPTION:You are invited to join the Garden Team for a morning of fun and togetherness! Plans are to clear and clean the garden space and update the potted plants.Garden tools will be provided; however\, if you have favorites\, please bring them along as well as gloves\, water and a hat.
URL:https://nhunited.org/event/garden-clean-up/
ATTACH;FMTTYPE=image/png:https://nhunited.org/wp-content/uploads/2024/11/garden-cleanup.png
END:VEVENT
BEGIN:VEVENT
DTSTART;TZID=America/Los_Angeles:20241110T090000
DTEND;TZID=America/Los_Angeles:20241110T103000
DTSTAMP:20260423T063606
CREATED:20241023T140529Z
LAST-MODIFIED:20241127T084053Z
UID:10000397-1731229200-1731234600@nhunited.org
SUMMARY:Jesus and the Abolitionist
DESCRIPTION:As we approach Election Day\, and all the anxiety that comes with it\, we want to provide an opportunity for some further learning\, no matter what the outcome. Because whatever the outcome\, there is still a lot of work that needs to be done to build the kind of world we want to live in. That’s where Jesus and the Abolitionists: How Anarchist Christianity Empowers the People comes in. This profound and thoughtful book invites us to consider a new way of living and ordering the world. It’s radical and challenging\, and a great way to help us imagine what could be next. \nNow\, you may have read that word\, “anarchist\,” and had some reactions. Anarchy certainly hasn’t been cast in a positive light for many of us. Terry J. Stokes\, author of the book\, rejects definitions of anarchy that associate it with chaos\, violence\, and disorder\, instead inviting us to redefine it as something that calls for an end to rulership and a revolution that ends in peace. \nThis book is equal parts informative and easy reading\, funny and insightful. We hope you’ll join us for a four part book study and discussion led by Pastor Molly! If you can’t afford a copy of the book but want to join\, or have any other questions\, feel free to reach out to molly@nhunited.org! \nPurchase your copy here! \nReading Schedule\nNov. 10th: Chapters 1 & 2 (pg. 1-30)\nNov. 17th: Chapters 3 – 6 (pg. 31-113)\nNov. 24th: Chapters 7 – 10 (pg. 114-152)\nDec. 1st: Where do we go from here?
URL:https://nhunited.org/event/jesus-and-the-abolitionist/2024-11-10/
ATTACH;FMTTYPE=image/png:https://nhunited.org/wp-content/uploads/2024/10/nhu-book.png
END:VEVENT
BEGIN:VEVENT
DTSTART;TZID=America/Los_Angeles:20241117T090000
DTEND;TZID=America/Los_Angeles:20241117T103000
DTSTAMP:20260423T063606
CREATED:20241023T140529Z
LAST-MODIFIED:20241127T084053Z
UID:10000398-1731834000-1731839400@nhunited.org
SUMMARY:Jesus and the Abolitionist
DESCRIPTION:As we approach Election Day\, and all the anxiety that comes with it\, we want to provide an opportunity for some further learning\, no matter what the outcome. Because whatever the outcome\, there is still a lot of work that needs to be done to build the kind of world we want to live in. That’s where Jesus and the Abolitionists: How Anarchist Christianity Empowers the People comes in. This profound and thoughtful book invites us to consider a new way of living and ordering the world. It’s radical and challenging\, and a great way to help us imagine what could be next. \nNow\, you may have read that word\, “anarchist\,” and had some reactions. Anarchy certainly hasn’t been cast in a positive light for many of us. Terry J. Stokes\, author of the book\, rejects definitions of anarchy that associate it with chaos\, violence\, and disorder\, instead inviting us to redefine it as something that calls for an end to rulership and a revolution that ends in peace. \nThis book is equal parts informative and easy reading\, funny and insightful. We hope you’ll join us for a four part book study and discussion led by Pastor Molly! If you can’t afford a copy of the book but want to join\, or have any other questions\, feel free to reach out to molly@nhunited.org! \nPurchase your copy here! \nReading Schedule\nNov. 10th: Chapters 1 & 2 (pg. 1-30)\nNov. 17th: Chapters 3 – 6 (pg. 31-113)\nNov. 24th: Chapters 7 – 10 (pg. 114-152)\nDec. 1st: Where do we go from here?
URL:https://nhunited.org/event/jesus-and-the-abolitionist/2024-11-17/
ATTACH;FMTTYPE=image/png:https://nhunited.org/wp-content/uploads/2024/10/nhu-book.png
END:VEVENT
BEGIN:VEVENT
DTSTART;TZID=America/Los_Angeles:20241124T090000
DTEND;TZID=America/Los_Angeles:20241124T103000
DTSTAMP:20260423T063606
CREATED:20241023T140529Z
LAST-MODIFIED:20241127T084053Z
UID:10000399-1732438800-1732444200@nhunited.org
SUMMARY:Jesus and the Abolitionist
DESCRIPTION:As we approach Election Day\, and all the anxiety that comes with it\, we want to provide an opportunity for some further learning\, no matter what the outcome. Because whatever the outcome\, there is still a lot of work that needs to be done to build the kind of world we want to live in. That’s where Jesus and the Abolitionists: How Anarchist Christianity Empowers the People comes in. This profound and thoughtful book invites us to consider a new way of living and ordering the world. It’s radical and challenging\, and a great way to help us imagine what could be next. \nNow\, you may have read that word\, “anarchist\,” and had some reactions. Anarchy certainly hasn’t been cast in a positive light for many of us. Terry J. Stokes\, author of the book\, rejects definitions of anarchy that associate it with chaos\, violence\, and disorder\, instead inviting us to redefine it as something that calls for an end to rulership and a revolution that ends in peace. \nThis book is equal parts informative and easy reading\, funny and insightful. We hope you’ll join us for a four part book study and discussion led by Pastor Molly! If you can’t afford a copy of the book but want to join\, or have any other questions\, feel free to reach out to molly@nhunited.org! \nPurchase your copy here! \nReading Schedule\nNov. 10th: Chapters 1 & 2 (pg. 1-30)\nNov. 17th: Chapters 3 – 6 (pg. 31-113)\nNov. 24th: Chapters 7 – 10 (pg. 114-152)\nDec. 1st: Where do we go from here?
URL:https://nhunited.org/event/jesus-and-the-abolitionist/2024-11-24/
ATTACH;FMTTYPE=image/png:https://nhunited.org/wp-content/uploads/2024/10/nhu-book.png
END:VEVENT
BEGIN:VEVENT
DTSTART;TZID=America/Los_Angeles:20241124T121500
DTEND;TZID=America/Los_Angeles:20241124T130000
DTSTAMP:20260423T063606
CREATED:20241031T065423Z
LAST-MODIFIED:20241120T171548Z
UID:10000484-1732450500-1732453200@nhunited.org
SUMMARY:JoySounds Choir
DESCRIPTION:It’s already time to sign up for our JoySounds Children’s Choir! Kids of all ages are encouraged to join us to prepare two special songs for the 5pm Christmas Eve service. \nWe will rehearse four Sundays leading up to Christmas Eve: 11/24\, 12/8\, 12/15\, 12/22. Rehearsal will take place immediately following the worship service\, from 12:15-1pm. If you need to miss a rehearsal or aren’t able to make the service on Christmas Eve\, it’s ok! The experience of learning music together and building friendship is worth it all! To sign up your child(ren)\, use our RSVP form.
URL:https://nhunited.org/event/joysounds-choir/2024-11-24/
CATEGORIES:Christmas
ATTACH;FMTTYPE=image/png:https://nhunited.org/wp-content/uploads/2024/10/pink-joy-sounds.png
END:VEVENT
END:VCALENDAR