BEGIN:VCALENDAR
VERSION:2.0
PRODID:-//Normal Heights United Methodist Church - ECPv6.15.17.1//NONSGML v1.0//EN
CALSCALE:GREGORIAN
METHOD:PUBLISH
X-WR-CALNAME:Normal Heights United Methodist Church
X-ORIGINAL-URL:https://nhunited.org
X-WR-CALDESC:Events for Normal Heights United Methodist Church
REFRESH-INTERVAL;VALUE=DURATION:PT1H
X-Robots-Tag:noindex
X-PUBLISHED-TTL:PT1H
BEGIN:VTIMEZONE
TZID:America/Los_Angeles
BEGIN:DAYLIGHT
TZOFFSETFROM:-0800
TZOFFSETTO:-0700
TZNAME:PDT
DTSTART:20240310T100000
END:DAYLIGHT
BEGIN:STANDARD
TZOFFSETFROM:-0700
TZOFFSETTO:-0800
TZNAME:PST
DTSTART:20241103T090000
END:STANDARD
BEGIN:DAYLIGHT
TZOFFSETFROM:-0800
TZOFFSETTO:-0700
TZNAME:PDT
DTSTART:20250309T100000
END:DAYLIGHT
BEGIN:STANDARD
TZOFFSETFROM:-0700
TZOFFSETTO:-0800
TZNAME:PST
DTSTART:20251102T090000
END:STANDARD
BEGIN:DAYLIGHT
TZOFFSETFROM:-0800
TZOFFSETTO:-0700
TZNAME:PDT
DTSTART:20260308T100000
END:DAYLIGHT
BEGIN:STANDARD
TZOFFSETFROM:-0700
TZOFFSETTO:-0800
TZNAME:PST
DTSTART:20261101T090000
END:STANDARD
END:VTIMEZONE
BEGIN:VEVENT
DTSTART;TZID=America/Los_Angeles:20250206T183000
DTEND;TZID=America/Los_Angeles:20250206T203000
DTSTAMP:20260420T195919
CREATED:20241214T181109Z
LAST-MODIFIED:20250107T213814Z
UID:10000557-1738866600-1738873800@nhunited.org
SUMMARY:Sound Healing for Gaza
DESCRIPTION:Normal Heights United Church and Sharp Memorial Hospital Sound Healing Team are joining hearts to raise money for Doctors Without Borders and their life-changing work in Gaza!\n\nJoin us at Normal Heights United in the beautiful Sanctuary on Thursday evening\, February 6th from 6:30pm-8:30pm for a Sound Healing Journey. \nExperience the soothing deep sound vibrations from skilled musicians\, sound artists and healers as they blend crystal singing bowls\, Gongs\, chimes\, drums and other instruments creating relaxation and peace. This event is an opportunity for self-care while at the same time supporting our Palestinian siblings. Our evening will begin with a welcome and brief sharing from local Palestinians. Our Sound Healing team will then lead us in a 75 minute sound journey cultivating an immersive environment to nurture mind\, body and spirit. Following the sound journey there will be time for connection with tea and light refreshments. \n100% of the proceeds will go to Doctors Without Borders and their work among Palestinians in Gaza. Doctors Without Borders is a 5 star medical charitable organization that is responding to the unbearable humanitarian crisis in Gaza. \nWe hope you will join us for an unforgettable evening!
URL:https://nhunited.org/event/sound-healing-for-gaza/
ATTACH;FMTTYPE=image/png:https://nhunited.org/wp-content/uploads/2024/12/sound-healing-for-gaza.png
END:VEVENT
BEGIN:VEVENT
DTSTART;TZID=America/Los_Angeles:20250215T190000
DTEND;TZID=America/Los_Angeles:20250215T201500
DTSTAMP:20260420T195919
CREATED:20250118T202736Z
LAST-MODIFIED:20250118T203018Z
UID:10000722-1739646000-1739650500@nhunited.org
SUMMARY:Liminality
DESCRIPTION:Liminality: the state of being in between\nSongs of connection and Courage\nPlease join us for a night of song\, connection\, and ritual. Our world is in a state of change\, a state in between what has been and what it’s becoming. Many of us are anxious\, angry\, and fearful about the future. This evening is designed to give us a space to walk through this together and find strength and wisdom. If you have any questions feel free to email Jeff Thomas at Jeffthomaslcsw@gmail.com
URL:https://nhunited.org/event/liminality/
CATEGORIES:Music
ATTACH;FMTTYPE=image/png:https://nhunited.org/wp-content/uploads/2025/01/Liminality2.png
END:VEVENT
BEGIN:VEVENT
DTSTART;TZID=America/Los_Angeles:20250228T183000
DTEND;TZID=America/Los_Angeles:20250228T183000
DTSTAMP:20260420T195919
CREATED:20240821T215004Z
LAST-MODIFIED:20260114T214406Z
UID:10000673-1740767400-1740767400@nhunited.org
SUMMARY:Songwriter Sanctuary-old
DESCRIPTION:The last Friday of each month we celebrate music by welcoming three local artists to perform in our sanctuary. Discover new talent in what many musicians have dubbed “the best sounding room in San Diego\,” your attendance and donations uplifts the artists that are so vital to our city. \n These are all ages shows\, but please note that we do not censor the musicians.  \n2025 Season Lineup (lineups subject to change) \nJul 25\nThe Bella Lunas\nEspi \nMiranda Ramos \nAug 29\nClaire King\nHailey Wetzel\nLexi Pulido \nSep 26\nJoe Summers\nGrainne Hunt\nHelena Holleran \nOct 24\nShea Givens\nKevin Cooper\nAnthony Cullins \nDec 5 – Holiday Edition!\nJT Moring\nCara Cormier\nDavid Beldock and Peggy Watson
URL:https://nhunited.org/event/songwriter-sanctuary-old-2/2025-02-28/
CATEGORIES:Music
ATTACH;FMTTYPE=image/png:https://nhunited.org/wp-content/uploads/2024/08/2025-songwriter-sanctuary.png
END:VEVENT
END:VCALENDAR